BEGIN:VCALENDAR
VERSION:2.0
PRODID:-//Univerzita pro školy - ECPv6.15.12.2//NONSGML v1.0//EN
CALSCALE:GREGORIAN
METHOD:PUBLISH
X-WR-CALNAME:Univerzita pro školy
X-ORIGINAL-URL:https://univerzitaproskoly.osu.cz
X-WR-CALDESC:Akce na Univerzita pro školy
REFRESH-INTERVAL;VALUE=DURATION:PT1H
X-Robots-Tag:noindex
X-PUBLISHED-TTL:PT1H
BEGIN:VTIMEZONE
TZID:Europe/Prague
BEGIN:DAYLIGHT
TZOFFSETFROM:+0100
TZOFFSETTO:+0200
TZNAME:CEST
DTSTART:20200329T010000
END:DAYLIGHT
BEGIN:STANDARD
TZOFFSETFROM:+0200
TZOFFSETTO:+0100
TZNAME:CET
DTSTART:20201025T010000
END:STANDARD
BEGIN:DAYLIGHT
TZOFFSETFROM:+0100
TZOFFSETTO:+0200
TZNAME:CEST
DTSTART:20210328T010000
END:DAYLIGHT
BEGIN:STANDARD
TZOFFSETFROM:+0200
TZOFFSETTO:+0100
TZNAME:CET
DTSTART:20211031T010000
END:STANDARD
BEGIN:DAYLIGHT
TZOFFSETFROM:+0100
TZOFFSETTO:+0200
TZNAME:CEST
DTSTART:20220327T010000
END:DAYLIGHT
BEGIN:STANDARD
TZOFFSETFROM:+0200
TZOFFSETTO:+0100
TZNAME:CET
DTSTART:20221030T010000
END:STANDARD
BEGIN:DAYLIGHT
TZOFFSETFROM:+0100
TZOFFSETTO:+0200
TZNAME:CEST
DTSTART:20230326T010000
END:DAYLIGHT
BEGIN:STANDARD
TZOFFSETFROM:+0200
TZOFFSETTO:+0100
TZNAME:CET
DTSTART:20231029T010000
END:STANDARD
END:VTIMEZONE
BEGIN:VEVENT
DTSTART;TZID=Europe/Prague:20220204T093000
DTEND;TZID=Europe/Prague:20220205T170000
DTSTAMP:20260421T100131
CREATED:20220124T132239Z
LAST-MODIFIED:20220124T132239Z
UID:2283-1643967000-1644080400@univerzitaproskoly.osu.cz
SUMMARY:Gradus ad Parnassum: festival klavírní instruktivní literatury
DESCRIPTION:Srdečně zveme především pedagogy klavíru\, ale samozřejmě i všechny hudbymilovné kolegy na již 7. ročník Festivalu klavírní instruktivní literatury\, který se uskuteční v termínu od 4. do 5. února 2022. Letošní program festivalu se opírá o tvorbu Milana Dvořáka a Emila Hradeckého. \nMísto konání: Komorní sál Fakulty umění\, budova B – Českobratrská 16\, Ostrava 1 (v budově Fakulty sociálních studií) \nPátek 4. února 2022\n\n09.30 prezence účastníků\n10.00 seminář pod vedením Karla Košárka\n12.50 promítání dokumentárního filmu o Milanu Dvořákovi\n14.20 jazzová dílna Vlastimila Šmídy\n16.00 seminář pod vedením Karla Košárka\n\nSobota 5. února 2022\n\n09.00 seminář pod vedením Karla Košárka\n10.30 možnost zakoupení materiálů z nakladatelství Musica Gioia\n10.45 prezentace nového alba Hany Švajdové „Co život dal a vzal…“\n11.15 seminář pod vedením Karla Košárka\n13.35 promítání dokumentárního filmu o Milanu Dvořákovi\n17.00 koncert ze skladeb Emila Hradeckého a Milana Dvořáka\n\nKlikněte pro přihlášení. \nPřihlášení pedagogové obdrží certifikát o absolvování programu v souvislosti s celoživotním vzděláváním pedagogických pracovníků. \nV případě dotazů prosím pište na adresu eliska.novotna@osu.cz. \nTěšíme se na Vás!
URL:https://univerzitaproskoly.osu.cz/aktivita/gradus-ad-parnassum-festival-klavirni-instruktivni-literatury/
LOCATION:Fakulta umění
ATTACH;FMTTYPE=image/jpeg:https://univerzitaproskoly.osu.cz/wp-content/uploads/2022/01/osualive-scaled.jpg
ORGANIZER;CN="Katedra kl%C3%A1vesov%C3%BDch n%C3%A1stroj%C5%AF":MAILTO:eliska.novotna@osu.cz
END:VEVENT
BEGIN:VEVENT
DTSTART;VALUE=DATE:20211101
DTEND;VALUE=DATE:20211102
DTSTAMP:20260421T100131
CREATED:20211007T075956Z
LAST-MODIFIED:20211007T083822Z
UID:2147-1635724800-1635811199@univerzitaproskoly.osu.cz
SUMMARY:Biologie v kriminalistice
DESCRIPTION:
URL:https://univerzitaproskoly.osu.cz/aktivita/biologie-v-kriminalistice-2/
LOCATION:Přírodovědecká fakulta
CATEGORIES:SŠ Biologie
ATTACH;FMTTYPE=image/jpeg:https://univerzitaproskoly.osu.cz/wp-content/uploads/2020/11/photo-1510523473646-eb1a45ef3409.jpg
END:VEVENT
BEGIN:VEVENT
DTSTART;VALUE=DATE:20211025
DTEND;VALUE=DATE:20211026
DTSTAMP:20260421T100131
CREATED:20211007T075915Z
LAST-MODIFIED:20211007T083748Z
UID:2145-1635120000-1635206399@univerzitaproskoly.osu.cz
SUMMARY:Hmyz ve vojenství a politice
DESCRIPTION:
URL:https://univerzitaproskoly.osu.cz/aktivita/hmyz-ve-vojenstvi-a-politice/
LOCATION:Přírodovědecká fakulta
CATEGORIES:SŠ Biologie
END:VEVENT
BEGIN:VEVENT
DTSTART;VALUE=DATE:20211025
DTEND;VALUE=DATE:20211026
DTSTAMP:20260421T100131
CREATED:20211007T075730Z
LAST-MODIFIED:20211007T083930Z
UID:2143-1635120000-1635206399@univerzitaproskoly.osu.cz
SUMMARY:Biologie v kriminalistice
DESCRIPTION:
URL:https://univerzitaproskoly.osu.cz/aktivita/biologie-v-kriminalistice/
LOCATION:Přírodovědecká fakulta
CATEGORIES:SŠ Biologie
END:VEVENT
BEGIN:VEVENT
DTSTART;VALUE=DATE:20211011
DTEND;VALUE=DATE:20211012
DTSTAMP:20260421T100131
CREATED:20211007T075553Z
LAST-MODIFIED:20211007T083936Z
UID:2141-1633910400-1633996799@univerzitaproskoly.osu.cz
SUMMARY:Invazní druhy živočichů našeho regionu
DESCRIPTION:
URL:https://univerzitaproskoly.osu.cz/aktivita/invazni-druhy-zivocichu-naseho-regionu/
LOCATION:Přírodovědecká fakulta
CATEGORIES:SŠ Biologie
END:VEVENT
END:VCALENDAR