BEGIN:VCALENDAR
VERSION:2.0
PRODID:-//Univerzita pro školy - ECPv6.15.12.2//NONSGML v1.0//EN
CALSCALE:GREGORIAN
METHOD:PUBLISH
X-WR-CALNAME:Univerzita pro školy
X-ORIGINAL-URL:https://univerzitaproskoly.osu.cz
X-WR-CALDESC:Akce na Univerzita pro školy
REFRESH-INTERVAL;VALUE=DURATION:PT1H
X-Robots-Tag:noindex
X-PUBLISHED-TTL:PT1H
BEGIN:VTIMEZONE
TZID:Europe/Prague
BEGIN:DAYLIGHT
TZOFFSETFROM:+0100
TZOFFSETTO:+0200
TZNAME:CEST
DTSTART:20240331T010000
END:DAYLIGHT
BEGIN:STANDARD
TZOFFSETFROM:+0200
TZOFFSETTO:+0100
TZNAME:CET
DTSTART:20241027T010000
END:STANDARD
BEGIN:DAYLIGHT
TZOFFSETFROM:+0100
TZOFFSETTO:+0200
TZNAME:CEST
DTSTART:20250330T010000
END:DAYLIGHT
BEGIN:STANDARD
TZOFFSETFROM:+0200
TZOFFSETTO:+0100
TZNAME:CET
DTSTART:20251026T010000
END:STANDARD
BEGIN:DAYLIGHT
TZOFFSETFROM:+0100
TZOFFSETTO:+0200
TZNAME:CEST
DTSTART:20260329T010000
END:DAYLIGHT
BEGIN:STANDARD
TZOFFSETFROM:+0200
TZOFFSETTO:+0100
TZNAME:CET
DTSTART:20261025T010000
END:STANDARD
END:VTIMEZONE
BEGIN:VEVENT
DTSTART;TZID=Europe/Prague:20250616T090000
DTEND;TZID=Europe/Prague:20250618T170000
DTSTAMP:20260421T100851
CREATED:20250617T102936Z
LAST-MODIFIED:20250617T102936Z
UID:4881-1750064400-1750266000@univerzitaproskoly.osu.cz
SUMMARY:Letní škola k dětské paliativní péči v kontextu vzdělávání
DESCRIPTION:Třídenní letní škola pořádaná Pedagogickou fakultou Ostravské univerzity nabízí jedinečnou příležitost hlouběji proniknout do problematiky dětské paliativní péče v oblasti vzdělávání vážně nemocných či umírajících dětí (žáků\, studentů). \nLetní škola navazuje na letos prvně vyučované předměty orientované na dětskou paliativní péči. \nNa co se letní škola zaměřuje?\n\nNa různorodé aspekty multioborově a meziresortně koncipované podpory nemocným dětem\, jejich rodinám\, stejně tak jako všem doprovázejícím osobám\, včetně učitelů a odborníků dalších profesí.\n\nKomu je letní škola určena?\n\nStudentům a studentkám speciální pedagogiky\, sociální pedagogiky či dalším zájemcům z řad studujících (příp. pracovníků) na Pedagogické fakultě.\n\nNa co se můžete těšit?\n\nProgram Letní školy\nSetkání se zajímavými přednášejícími – odborníky ve svých profesích.\nPřednáška/workshop s prof. Lornou Fraser z King’s College London – přední odbornicí celosvětového významu v oblasti dětské paliativní péče a zdraví dětí.\nUnikátní možnost zažít ochutnávku z různě zaměřených oblastí\, jako je např. zdravotní klaunství\, poradenství pro pozůstalé\, do/provázení pozůstalých\, ztráta a truchlení u dětí a dospívajících\, alternativní přístupy ke zpracování zármutku\, truchlení a ztrát.\nMožnost zapojit se do diskuse k jedinečným tématům. Diskuze je zároveň příležitostí k hlubšímu sebepoznání – k uvědomění si vlastních hodnot\, přesvědčení\, motivace a očekávání v bezpečném a respektujícím prostředí.\n\nCo získáte?\n\nInformace\, znalosti a možné přístupy k dané problematice.\nPraktické dovednosti v oblasti doprovázení vážně nemocných dětí (žáků\, studentů) a všech jejich blízkých sdílené předními odborníky.\nNové kontakty\, možnost síťovat a inspiraci pro možná provázání teorie s praxí.\n\nCo obdržíte?\n\nOsvědčení o účasti na letní škole.\n\nInformace v kostce:\n\nTermín: 16.–18. červen 2025\nMísto: Pedagogická fakulta Ostravské univerzity\, Fráni Šrámka 3\, Ostrava (budova SB\, učebna SB 205).\nDélka trvání: 3 dny (každý den od 9:00 do 17:00 hod.\, resp. dle programu).\nKapacita: max. 30 účastníků.\nPro koho: studenti Pedagogické fakulty Ostravské univerzity ve všech úrovních\, akademičtí pracovníci fakulty\, příp. další zájemci.\nDíky podpoře grantu Nadace rodiny Vlčkových řešeného na Pedagogické fakultě je účast na této akci zdarma.
URL:https://univerzitaproskoly.osu.cz/aktivita/letni-skola-k-detske-paliativni-peci-v-kontextu-vzdelavani/
LOCATION:Pedagogická fakulta\, Fráni Šrámka 3\, Fráni Šrámka 3\, Ostrava\, Moravskoslezský\, 709 00\, Czech Republic
CATEGORIES:SŠ Sociální práce
ATTACH;FMTTYPE=image/jpeg:https://univerzitaproskoly.osu.cz/wp-content/uploads/2025/06/31709.jpg
END:VEVENT
BEGIN:VEVENT
DTSTART;TZID=Europe/Prague:20250623T090000
DTEND;TZID=Europe/Prague:20250624T150000
DTSTAMP:20260421T100851
CREATED:20250617T101337Z
LAST-MODIFIED:20250617T101337Z
UID:4866-1750669200-1750777200@univerzitaproskoly.osu.cz
SUMMARY:Letní workshop pro vyučující geografie
DESCRIPTION:Vítáme Vás na stránkách Letního workshopu pro vyučující geografie\, kterou společně připravují Katedra fyzické geografie a geoekologie a Katedra sociální geografie a regionálního rozvoje. Chceme vyučujícím ze středních škol nabídnout platformu\, která přinese zajímavé podněty pro výuku\, a přiblíží\, co všechno děláme a co můžeme nabídnout. Těšit se můžete na exkurze\, přednášky i workshopy. Mezi přednášejícími najdete výrazné osobnosti obou kateder. Za účast od nás obdržíte osvědčení o absolvování workshopu/kurzu. \nAktuální ročník\nV roce 2025 na Vás ve dnech 23. a 24. června čeká program\, v němž se zaměříme na reálné dopady změny klimatu. Účastnice a účastníci se seznámí s dopady klimatických změn\, zaměří se na hodnocení tepelného profilu města\, vyzkoušejí si zpracování i vyhodnocení dat z terénu\, budou řešit souvislosti\, které se do podobných proměn promítají a zkusí navrhnout možná nápravná řešení. Hlásit se můžete prostřednictvím elektronického formuláře do 15. června 2025\, workshop je zpoplatněn částkou 500 Kč.
URL:https://univerzitaproskoly.osu.cz/aktivita/letni-workshop-pro-vyucujici-geografie/
LOCATION:Přírodovědecká fakulta
CATEGORIES:Pro učitele
ATTACH;FMTTYPE=image/jpeg:https://univerzitaproskoly.osu.cz/wp-content/uploads/2025/06/29746.jpg
END:VEVENT
END:VCALENDAR