BEGIN:VCALENDAR
VERSION:2.0
PRODID:-//Univerzita pro školy - ECPv6.15.12.2//NONSGML v1.0//EN
CALSCALE:GREGORIAN
METHOD:PUBLISH
X-WR-CALNAME:Univerzita pro školy
X-ORIGINAL-URL:https://univerzitaproskoly.osu.cz
X-WR-CALDESC:Akce na Univerzita pro školy
REFRESH-INTERVAL;VALUE=DURATION:PT1H
X-Robots-Tag:noindex
X-PUBLISHED-TTL:PT1H
BEGIN:VTIMEZONE
TZID:Europe/Prague
BEGIN:DAYLIGHT
TZOFFSETFROM:+0100
TZOFFSETTO:+0200
TZNAME:CEST
DTSTART:20240331T010000
END:DAYLIGHT
BEGIN:STANDARD
TZOFFSETFROM:+0200
TZOFFSETTO:+0100
TZNAME:CET
DTSTART:20241027T010000
END:STANDARD
BEGIN:DAYLIGHT
TZOFFSETFROM:+0100
TZOFFSETTO:+0200
TZNAME:CEST
DTSTART:20250330T010000
END:DAYLIGHT
BEGIN:STANDARD
TZOFFSETFROM:+0200
TZOFFSETTO:+0100
TZNAME:CET
DTSTART:20251026T010000
END:STANDARD
BEGIN:DAYLIGHT
TZOFFSETFROM:+0100
TZOFFSETTO:+0200
TZNAME:CEST
DTSTART:20260329T010000
END:DAYLIGHT
BEGIN:STANDARD
TZOFFSETFROM:+0200
TZOFFSETTO:+0100
TZNAME:CET
DTSTART:20261025T010000
END:STANDARD
END:VTIMEZONE
BEGIN:VEVENT
DTSTART;TZID=Europe/Prague:20250313T140000
DTEND;TZID=Europe/Prague:20250313T180000
DTSTAMP:20260421T100854
CREATED:20250317T123236Z
LAST-MODIFIED:20250317T123341Z
UID:4700-1741874400-1741888800@univerzitaproskoly.osu.cz
SUMMARY:Týden mozku
DESCRIPTION:Už 13. března se Ostravská univerzita zapojí do festivalu Týden mozku Akademie věd ČR\, a to hned dvěma přednáškami na půdě děkanátu Lékařské fakulty (budova ZW\, posluchárna 102). První přednáška se zaměří na využití ultrazvuku při léčbě cévní mozkové příhody\, zatímco druhá představí neurostimulaci – metodu\, která může zpomalit úpadek paměti. Součástí festivalu bude taky prohlídka cvičné nemocnice Lékařské fakulty pro registrované účastníky. \nVíce informací najdete v pozvánce na OU@live.
URL:https://univerzitaproskoly.osu.cz/aktivita/tyden-mozku/
LOCATION:Moravskoslezský
ATTACH;FMTTYPE=image/png:https://univerzitaproskoly.osu.cz/wp-content/uploads/2025/03/bannery2-tyden-mozku-na-ostravske_tyden-mozku-web-ou.png
END:VEVENT
END:VCALENDAR