BEGIN:VCALENDAR
VERSION:2.0
PRODID:-//Univerzita pro školy - ECPv6.15.12.2//NONSGML v1.0//EN
CALSCALE:GREGORIAN
METHOD:PUBLISH
X-WR-CALNAME:Univerzita pro školy
X-ORIGINAL-URL:https://univerzitaproskoly.osu.cz
X-WR-CALDESC:Akce na Univerzita pro školy
REFRESH-INTERVAL;VALUE=DURATION:PT1H
X-Robots-Tag:noindex
X-PUBLISHED-TTL:PT1H
BEGIN:VTIMEZONE
TZID:Europe/Prague
BEGIN:DAYLIGHT
TZOFFSETFROM:+0100
TZOFFSETTO:+0200
TZNAME:CEST
DTSTART:20220327T010000
END:DAYLIGHT
BEGIN:STANDARD
TZOFFSETFROM:+0200
TZOFFSETTO:+0100
TZNAME:CET
DTSTART:20221030T010000
END:STANDARD
BEGIN:DAYLIGHT
TZOFFSETFROM:+0100
TZOFFSETTO:+0200
TZNAME:CEST
DTSTART:20230326T010000
END:DAYLIGHT
BEGIN:STANDARD
TZOFFSETFROM:+0200
TZOFFSETTO:+0100
TZNAME:CET
DTSTART:20231029T010000
END:STANDARD
BEGIN:DAYLIGHT
TZOFFSETFROM:+0100
TZOFFSETTO:+0200
TZNAME:CEST
DTSTART:20240331T010000
END:DAYLIGHT
BEGIN:STANDARD
TZOFFSETFROM:+0200
TZOFFSETTO:+0100
TZNAME:CET
DTSTART:20241027T010000
END:STANDARD
END:VTIMEZONE
BEGIN:VEVENT
DTSTART;TZID=Europe/Prague:20230801T080000
DTEND;TZID=Europe/Prague:20230917T235900
DTSTAMP:20260420T143545
CREATED:20230816T140942Z
LAST-MODIFIED:20230816T140942Z
UID:3434-1690876800-1694995140@univerzitaproskoly.osu.cz
SUMMARY:Fakulta umění otevírá tři studijní programy celoživotního vzdělávání
DESCRIPTION:V akademickém roce 2023/2024 otevře Fakulta umění tři studijní programy celoživotního vzdělávání. Tyto programy jsou vhodné pro uchazeče\, kteří mají zájem o doplnění svých dovedností v oblasti umění a rozvoje kreativity. Každý program nabídne unikátní soubor znalostí a dovedností\, které jsou aktuální a relevantní pro současné potřeby a výzvy ve svých oborech. \n1. Herní vývojář\nJedním z nových programů je Herní vývojář\, který je zaměřen na získání kompetencí a dovedností v oblasti vývoje videa a PC her. Tento modul poskytne studentům důležité znalosti z algoritmizace\, programování\, 2D a 3D animace\, herního designu\, procesu vývoje her\, narativního designu a dalších klíčových aspektů spojených s vývojem her. Studenti se seznámí s herními enginy a budou mít možnost vytvořit svou první vlastní hru. Po absolvování programu budou mít základní zkušenosti a dovednosti pro tvorbu jednoduchých her a mohou si přidat svou vlastní hru do životopisu. Studium v ​​tomto programu proběhne v pilotním módu v akademickém roce 2023/2024 a nebude zpoplatněno. \n2. Hudební kreativita jako nástroj psychohygieny a osobnostního rozvoje\nDalším novým programem je Hudební kreativita jako nástroj psychohygieny a osobnostního rozvoje. Tento studijní program je navržen jako ucelený soubor základních znalostí a dovedností zaměřených na využití hudební kreativity jako nástroje pro psychohygienu a osobnostní růst. Absolventi tohoto programu získají teoretické znalosti\, které budou průběžně aplikovat v praxi\, a naučí se používat hudební nástroje jako prostředek pro zlepšení psychického zdraví a osobního rozvoje. Během studia se seznámí s technikou psychohygieny a seberozvoje a získají praktickou zkušenost s aplikací těchto technik v modelových situacích. \n3. Studium pedagogiky pro učitele uměleckých odborných předmětů\nPosledním programem je Studium pedagogiky pro učitele uměleckých odborných předmětů. Tento program poskytne absolventům znalosti a dovednosti v oblasti pedagogiky\, didaktiky a psychologie\, které jsou klíčové pro výkon učitelské profese ve školách zaměřených na umělecké obory. Absolventi získají komplexní přípravu pro učení na základní škole\, základní umělecké škole\, konzervatoři\, vyšší odborné škole a střední škole. Studium jim umožní aplikovat teoretické poznatky přímo v praxi\, protože absolvuje pedagogickou praxi na různé stupně školství. Nově jsou v programu Pedagogika zahrnuta také výtvarná umění se specializací na Intermédia (Nová média\, Fotografie\, Animovaná tvorba\, Ilustrace a knižní design). \nVšechny nové studijní programy budou probíhat v moderním zázemí nové budovy Fakulty umění na Černé louce. Pokud jste zájemcem o tyto programy\, více informací o podávání přihlášek a podmínek studia naleznete na webových stránkách Fakulty umění. \nCeloživotní vzdělávání nabízí skvělou příležitost pro další profesní růst a osobní rozvoj v oblasti umění a kreativity. Využijte šanci a přihlaste se ke studiu na Fakultě umění v akademickém roce 2023/2024!
URL:https://univerzitaproskoly.osu.cz/aktivita/fakulta-umeni-otevira-tri-studijni-programy-celozivotniho-vzdelavani/
LOCATION:Fakulta umění
CATEGORIES:SŠ Historie a umění,SŠ Pedagogika a psychologie,SŠ Výtvarné umění,ZŠ Hudba a zpěv,ZŠ Pedagogika a psychologie,ZŠ Výtvarné umění
ORGANIZER;CN="Fakulta um%C4%9Bn%C3%AD":MAILTO:info.fu@osu.cz
END:VEVENT
END:VCALENDAR