BEGIN:VCALENDAR
VERSION:2.0
PRODID:-//Univerzita pro školy - ECPv6.15.12.2//NONSGML v1.0//EN
CALSCALE:GREGORIAN
METHOD:PUBLISH
X-ORIGINAL-URL:https://univerzitaproskoly.osu.cz
X-WR-CALDESC:Akce na Univerzita pro školy
REFRESH-INTERVAL;VALUE=DURATION:PT1H
X-Robots-Tag:noindex
X-PUBLISHED-TTL:PT1H
BEGIN:VTIMEZONE
TZID:Europe/Prague
BEGIN:DAYLIGHT
TZOFFSETFROM:+0100
TZOFFSETTO:+0200
TZNAME:CEST
DTSTART:20220327T010000
END:DAYLIGHT
BEGIN:STANDARD
TZOFFSETFROM:+0200
TZOFFSETTO:+0100
TZNAME:CET
DTSTART:20221030T010000
END:STANDARD
BEGIN:DAYLIGHT
TZOFFSETFROM:+0100
TZOFFSETTO:+0200
TZNAME:CEST
DTSTART:20230326T010000
END:DAYLIGHT
BEGIN:STANDARD
TZOFFSETFROM:+0200
TZOFFSETTO:+0100
TZNAME:CET
DTSTART:20231029T010000
END:STANDARD
BEGIN:DAYLIGHT
TZOFFSETFROM:+0100
TZOFFSETTO:+0200
TZNAME:CEST
DTSTART:20240331T010000
END:DAYLIGHT
BEGIN:STANDARD
TZOFFSETFROM:+0200
TZOFFSETTO:+0100
TZNAME:CET
DTSTART:20241027T010000
END:STANDARD
END:VTIMEZONE
BEGIN:VEVENT
DTSTART;TZID=Europe/Prague:20230628T110000
DTEND;TZID=Europe/Prague:20230628T220000
DTSTAMP:20260424T102541
CREATED:20230524T090226Z
LAST-MODIFIED:20230614T091419Z
UID:3377-1687950000-1687989600@univerzitaproskoly.osu.cz
SUMMARY:Jsme Ostravská! 2023
DESCRIPTION:JSME OSTRAVSKÁ! je barevný letní festival\, který vám ukáže jedinečnou různorodost Ostravské univerzity. Svým programem na scénách i v tematických zónách vás zabaví na celý den. Program začíná již v 11 hodin Bitvou O pohár Ostravské univerzity a programem zejména pro střední školy\, od 15. hodiny se rozjede hudební program na hlavním pódiu\, diskusní scéna\, workshopová i sportovní zóna a připraven bude i bohatý program pro děti\, včetně soutěží a dětského koutku. Chybět nebudou ani chill zóna nebo městečko studentských organizací a oblíbená dýmkárna. \n\nTěšíme se na vás 28. června 2023 v novém City Campusu Ostravské univerzity na Černé louce v Ostravě! \nHlavní stage\n\n\n11:00 Bitva O pohár Ostravské univerzity\n14:30 Vyhlášení výsledků Bitvy O pohár Ostravské univerzity\n15:30 Grey256\n17:15 LinaKaro\n18:45 Marcell\n20:30 N.O.H.A.\n\n\n\n\nHlavní stage\, místo\, které nemůžete minout. Po Bitvě O pohár Ostravské univerzity a jejím vyhlášení zde budou hrát a zpívat špičkoví interpreti\, jejichž koncerty si zaručeně užijete. Kromě toho se tady dozvíte to\, co ještě třeba nevíte o naší univerzitě\, a čas bude i na rozhovory se zajímavými osobnostmi.\n\n\nDiskusní scéna Ostravské univerzity a Magazínu PATRIOT\nDiskusní scéna Ostravské univerzity a Magazínu PATRIOT se bude věnovat aktuálním společenským tématům. Nahlédneme na budoucnost umělé inteligence\, města Ostravy i do vizí pro učitelské profese. Využijte jedinečné možnosti setkat se s akademiky Ostravské a našimi hosty. Debatami provede moderátorka Marta Pilařová. \n15:00 | Od spolupráce k závislosti: dokážeme žít bez umělé inteligence?\nDr. Libor Klubal\, pedagog\, lektor\, mentor\nDr. Josef Kundrát\, odborný asistent na Katedře psychologie FF\, psycholog\ndoc. Martin Štěpnička\, prorektor OU pro vědu a uměleckou činnost a matematik \n16:30 | Kam kráčíš\, Ostravo?\nMgr. Jan Dohnal\, primátor města Ostravy\nJan Petrus\, Youtube kanál Naše Ostrava\nDr. Ondřej Slach\, prorektor OU pro strategii a rozvoj\, sociální geograf \n18:00 | Jakým výzvám čelí učitelé ve 21. století?\ndr. Andrea Hoffmannová\, náměstkyně primátora pro školství a kulturu v Ostravě\ndoc. Alena Seberová\, prorektorka OU pro studium a celoživotní vzdělávání\ndoc. Daniel Jandačka\, děkan PdF OU\ndoc. Roman Farana\, proděkan pro vědu a doktorská studia PdF OU\ndoc. Jiří Kusák\, vedoucí Katedry hudební výchovy \nVěda není šedá – vědecké a kreativní workshopy\nVe workshopové zóně se můžete těšit na sérii zábavných\, kreativních i vědeckých workshopů pro děti i dospělé. Chtěli byste si třeba zkusit vcítit se do kůže vaší babičky a zažít\, jak se jí vstává ze židle? I to vám umožníme díky gerontoobleku\, se kterém si můžete vyzkoušet\, jak se cítí starý člověk a jak čelí každodenním výzvám. \nStudentská organizace IMFSA si pro vás připravila oblíbené ukázky první pomoci\, kterou si budeme moct vyzkoušet na místě na umělých figurínách. Jste-li fascinováni přírodou\, jistě vás zaujme včelí dobrodružství\, kdy nahlédnete do včelího úlu\, a kde si budete moct vyrobit vlastní svíčku ze včelího vosku. \nTechnologické nadšence zcela jistě zaujme svět robotiky a detektivní duše se budou moci přiučit základům kriminalistické chemie. Pro děti jsou připraveny kreativní workshopy\, kde odhalí kouzlo tvorby animací\, vytvoří si loutky z přírodních materiálů a ti nejmenší si vyfoukají svou vlastní příšeru. \nSportovní aktivity\nNový City Campus Ostravské univerzity disponuje jedinečným sportovním zázemím – v průběhu celého dne si budete moci zdarma zasportovat a třeba i něco vyhrát. Připravené bude hřiště na streetball\, kopanou\, beachvolejbal\, ale také běžecká dráha a lodě\, kterými se můžete svézt po Ostravici. \nOstravská literárně-publicistická kavárna\nKlid\, káva\, knihy\, příjemné sezení a třeba i možnost se něčemu novému přiučit. V naší improvizované Ostravské kavárně můžete kdykoli během dne přijít na dobré kafe\, posedět si ve stínu a vyzkoušet si aktivity\, které ověří nejen vaše literární schopnosti. \nRáda vás přivítá otevřená redakce OU@live\, stejně jako Univerzitní knihovna OU nebo zástupci Filozofické fakulty OU. Vše vyvrcholí velkolepým kvízem v 18:15 – jak by v něm obstál takový Joseph Pulitzer? \nKomentované prohlídky budov City Campusu Ostravské univerzity\nUž jste měli možnost si pořádné prohlédnout nové\, špičkově vybavené\, budovy City Campusu Ostravské univerzity? Prozkoumejte halu míčových sportů\, levitující ovál\, komorní sál nebo speciálně odhlučněné cvičebny pro hudebníky. \nProhlídky budovy sportu budou začínat v 16:00\, 17:00 a 18:00. \nProhlídky nové budovy Fakulty umění OU začnou v 16:30\, 17:30 a 18:30. \nAktivity pro nejmenší a dětský koutek\nJSME OSTRAVSKÁ! je letním festivalem pro všechny věkové kategorie\, takže na své si přijdou i vaše ratolesti\, pro které budou připraveny venkovní aktivity i celá zóna. Přijďte se pobavit\, nechte si pomalovat obličeje veselými motivy a využijte třeba i půjčovny hraček. Čekají na vás deskové hry\, pískoviště a spousta zábavných aktivit\, které připravili studenti Pedagogické fakulty OU. \nFood zóna\nDobré jídlo a pití je základem každé povedené akce\, proto si na této zóně dáváme obzvláště záležet. Je libo burger a hranolky nebo snad něco zdravějšího? Nebojte\, na festivalu JSME OSTRAVSKÁ! své chutě i hlad zkrotí každý. Osvěžení přinese výtečná zmrzlina a vychlazené nápoje\, co potečou proudem. \nFakulta umění\n\n\nod 11:00 Galerie Fakulty umění\n16:00 Koncert lektorů mezinárodních hobojových kurzů\n\n\n\n\n\n\nProzkoumejte vystavená díla v Galerii Fakulty umění nebo se nechejte unést tóny hobojů\, které uslyšíte při jedinečné příležitosti Koncertu lektorů 9. ročníku mezinárodních hobojových kurzů. Na programu koncertu\, jenž začne v 16 hodin v komorním sále\, uslyšíte skladby skladatelů Mendelssohna-Bartholdyho\, Schiffauera\, Granta Stilla\, Hosokawa nebo Boismortiera.
URL:https://univerzitaproskoly.osu.cz/aktivita/jsme-ostravska-2023/
LOCATION:Moravskoslezský
END:VEVENT
END:VCALENDAR